BEGIN:VCALENDAR
VERSION:2.0
PRODID:-//Christian Business Network - ECPv6.15.18//NONSGML v1.0//EN
CALSCALE:GREGORIAN
METHOD:PUBLISH
X-WR-CALNAME:Christian Business Network
X-ORIGINAL-URL:https://cbn.net.au
X-WR-CALDESC:Events for Christian Business Network
REFRESH-INTERVAL;VALUE=DURATION:PT1H
X-Robots-Tag:noindex
X-PUBLISHED-TTL:PT1H
BEGIN:VTIMEZONE
TZID:Australia/Melbourne
BEGIN:STANDARD
TZOFFSETFROM:+1100
TZOFFSETTO:+1000
TZNAME:AEST
DTSTART:20230401T160000
END:STANDARD
BEGIN:DAYLIGHT
TZOFFSETFROM:+1000
TZOFFSETTO:+1100
TZNAME:AEDT
DTSTART:20230930T160000
END:DAYLIGHT
BEGIN:STANDARD
TZOFFSETFROM:+1100
TZOFFSETTO:+1000
TZNAME:AEST
DTSTART:20240406T160000
END:STANDARD
BEGIN:DAYLIGHT
TZOFFSETFROM:+1000
TZOFFSETTO:+1100
TZNAME:AEDT
DTSTART:20241005T160000
END:DAYLIGHT
BEGIN:STANDARD
TZOFFSETFROM:+1100
TZOFFSETTO:+1000
TZNAME:AEST
DTSTART:20250405T160000
END:STANDARD
BEGIN:DAYLIGHT
TZOFFSETFROM:+1000
TZOFFSETTO:+1100
TZNAME:AEDT
DTSTART:20251004T160000
END:DAYLIGHT
BEGIN:STANDARD
TZOFFSETFROM:+1100
TZOFFSETTO:+1000
TZNAME:AEST
DTSTART:20260404T160000
END:STANDARD
BEGIN:DAYLIGHT
TZOFFSETFROM:+1000
TZOFFSETTO:+1100
TZNAME:AEDT
DTSTART:20261003T160000
END:DAYLIGHT
END:VTIMEZONE
BEGIN:VEVENT
DTSTART;TZID=Australia/Melbourne:20250620T064500
DTEND;TZID=Australia/Melbourne:20250620T090000
DTSTAMP:20260423T011130
CREATED:20241212T204111Z
LAST-MODIFIED:20250521T032411Z
UID:1099-1750401900-1750410000@cbn.net.au
SUMMARY:CBN Redlands Breakfast with Martin Brooker
DESCRIPTION:Join us at the next Redlands CBN Breakfast for a delicious breakfast\, hear from our inspiring guest speaker Martin Brooker\, and network with other Christians in business. \nAbout Our Speaker Martin Brooker:  \nMartin Brooker is the Director of Convene Australia\, where he leads the mission to connect\, equip\, and inspire Christian CEOs and business owners to grow exceptional businesses and become higher-impact leaders who honor God. \nWith a 37-year career in the Royal Australian Navy—including command roles in the Middle East\, the Pacific\, and Afghanistan. Martin’s leadership experience spans operational service\, strategic transformation\, and cultural change at scale. \nSince transitioning from military service in 2015\, Martin has become a trusted strategic advisor\, speaker\, facilitator\, and executive coach\, helping senior leaders develop constructive cultures\, lead with integrity\, and align business strategy with deeper purpose. He has worked with government\, private sector\, and not-for-profit organisations across Australia\, delivering impactful programs in leadership\, performance\, and values-based decision-making. \nAt Convene Australia\, Martin leads the development of peer-to-peer advisory teams\, guiding Christian leaders to greater clarity\, accountability\, and spiritual depth. His passion is to see leaders flourish – personally and professionally – leaving a legacy that reflects God’s Kingdom in the marketplace. \nBring business cards to enter the prize draw!\n\n\n﻿
URL:https://cbn.net.au/event/cbn-redlands-breakfast-20th-june/
LOCATION:Cleveland RSL\, 8 Passage Street\, Cleveland\, Queensland\, 4163\, Australia
CATEGORIES:Redlands CBN
ATTACH;FMTTYPE=image/webp:https://cbn.net.au/wp-content/uploads/2024/12/CBN-Humanitix-Cover-7.webp
END:VEVENT
BEGIN:VEVENT
DTSTART;TZID=Australia/Melbourne:20250509T064500
DTEND;TZID=Australia/Melbourne:20250509T090000
DTSTAMP:20260423T011130
CREATED:20250407T080202Z
LAST-MODIFIED:20250407T080529Z
UID:1333-1746773100-1746781200@cbn.net.au
SUMMARY:CBN Redlands Breakfast with Colin Lee
DESCRIPTION:Join us at the next Redlands CBN Breakfast for a delicious breakfast\, hear from our inspiring guest speaker Colin Lee\, and network with other Christians in business. \nAbout Our Speaker Colin Lee:\nColin Lee is an inspired entrepreneur\, property strategist\, and Kingdom-minded leader with a powerful message: proximity has the power to shape your destiny. In his talk\, Power in Proximity\, Colin shares his journey of how surrounding himself with the right people\, seizing the right opportunities\, and applying Godly wisdom has been foundational to his success — both in business and in life. \nDrawing from biblical principles and lived experience\, Colin explores how aligning yourself with the right mentors\, faith-filled communities\, and Kingdom-driven networks can unlock greater inspiration\, influence\, and impact. As the Bible says\, “As iron sharpens iron\, so one person sharpens another” — and Colin believes that proximity to wisdom\, Godliness\, and vision isn’t just a strategy\, it’s a spiritual key. To be wise\, you must walk with the wise. \nColin is the Founder and CEO of Inspire Realty\, an award-winning property advisory firm with over 60 industry accolades. He is also the author of Play the Property Game\, where he equips everyday Australians to take charge of their financial future through strategic property investment. From humble beginnings as a maths tutor and waiter with just $25\,000 in savings\, Colin has built an $8.5 million property portfolio. His success has enabled him to retire his parents — and now\, he’s on a mission to help others steward their treasures\, time and talent to multiply the gifts that God has blessed us all with. \nHe is regularly featured in the media\, including Channel 7\, News.com.au\, The Daily Telegraph\, ABC\, Financial Review\, Courier Mail\, and Kochie’s Business Builders\, for his expert insights in property\, wealth creation\, and financial wellbeing. \nBeyond his business ventures\, Colin is the Founder of the Kingdom Entrepreneurs Network — a movement of Christian business owners committed to doing business God’s way. The network exists to inspire believers to see their business as their ministry\, to walk out Godly values in leadership\, and to create impact in their churches\, communities\, and the causes they care deeply about. It’s a space for likeminded\, equally yoked entrepreneurs to gather\, sharpen one another\, and walk in their calling to influence the marketplace for the Kingdom. \nWhether through business\, ministry\, or community\, Colin’s life is a testament to the power of faith\, obedience\, and proximity — because who you surround yourself with will determine how far and how faithfully you go. \n  \nBring business cards to enter the prize draw!
URL:https://cbn.net.au/event/cbn-redlands-breakfast-with-colin-lee/
LOCATION:RSL\, 8 Passage St\, Cleveland QLD 4163\, 8 Passage St\, Cleveland\, QLD\, 4163\, Australia
CATEGORIES:Redlands CBN
ATTACH;FMTTYPE=image/webp:https://cbn.net.au/wp-content/uploads/2025/04/CBN-Humanitix-Cover-6.webp
END:VEVENT
BEGIN:VEVENT
DTSTART;TZID=Australia/Melbourne:20250411T073000
DTEND;TZID=Australia/Melbourne:20250411T083000
DTSTAMP:20260423T011130
CREATED:20250325T162715Z
LAST-MODIFIED:20250407T081838Z
UID:1295-1744356600-1744360200@cbn.net.au
SUMMARY:CBN Connect – Join Us for Fortnightly Networking!
DESCRIPTION:WELCOME TO CBN CONNECT\nDear CBN Members\, \nWe’re thrilled to announce the launch of our new initiative\, CBN Connect\, a fortnightly gathering designed to enhance our sense of community and support among Christian Business Network members. We are excited to invite you to these connection meetings\, starting this April! \nWhat is CBN Connect? \nCBN Connect is all about fostering closer ties through regular\, informal gatherings where we can network\, support each other through encouragement and prayer\, and grow together both spiritually and professionally. \nWhen and Where? \nJoin us every other Friday\, starting 4th April\, from 7:30 AM to 8:30 or 9:00 AM at the Chop ‘n Chill Restaurant – 25B/152 Shore Street West\, Cleveland QLD 4163. The duration can extend depending on what suits most attendees. \nOpen Networking |  A Short Devotion And Prayer Time | Open For Members To Seek Advice Or Share Opportunities!\nFood and Drink: \nEach attendee is responsible for purchasing their own coffees and food—so you can grab whatever catches your fancy! \nWho Should Attend? \nWhile participation is optional\, we highly encourage you to attend and connect more regularly. Our traditional 6-week interval between meetings can feel quite lengthy\, and we believe these fortnightly meet-ups will keep our momentum and spirits high. \nInspiration for CBN Connect: \nThis initiative is for all of us who need that extra boost in business and the warm fellowship of our Christian community. \nLet’s Make It a Success! See you then!\nPlease register below to join us on the 4th of April. Your feedback and suggestions on how we can tailor these meetings to better serve you are warmly welcomed. \nLooking forward to seeing many of you there and to what God will do through our strengthened connections! \nKind Regards\, \nAlan & The CBN Team
URL:https://cbn.net.au/event/cbn-connect-join-us-for-fortnightly-networking/
LOCATION:Chop ‘n Chill Restaurant\, 25B/152 Shore Street West\, Cleveland\, QLD\, 4163\, Australia
CATEGORIES:Redlands CBN
ATTACH;FMTTYPE=image/jpeg:https://cbn.net.au/wp-content/uploads/2025/03/cbn-connect-scaled.jpg
END:VEVENT
BEGIN:VEVENT
DTSTART;TZID=Australia/Melbourne:20250321T063000
DTEND;TZID=Australia/Melbourne:20250321T090000
DTSTAMP:20260423T011130
CREATED:20241212T202419Z
LAST-MODIFIED:20250209T173859Z
UID:1089-1742538600-1742547600@cbn.net.au
SUMMARY:CBN Redlands Breakfast with Ps Linda Grieve
DESCRIPTION:Join us at the next Redlands CBN Breakfast for a delicious breakfast\, hear from our inspiring guest speaker Ps Linda Grieve\, and network with other Christians in business. \nAbout Our Speaker Pastor Linda Grieve: \nLinda is the CEO of The Cage Youth Foundation\, a local charity providing support for young people and their families across Redlands Coast along with her husband Peter\, they also co-pastor C3 Church Redland Bay a growing\, relevant\, multi-generational church. \nWith her zest for life\, her love of learning\, Linda passionately believes in the potential of all people and is devoted to Community and the cause of Making A Difference\, where she places a lot of her time and effort\, both through their church and The Cage Youth Foundation in providing a range of support services\, counselling\, mentoring and school engagement programs. \nShe is skilled in fundraising\, events management\, workplace training\, business administration\, community services\, applied psychology consumer behaviour life skills\, mentoring program delivery and social enterprises. \nLinda was born and grew up in New Zealand\, Linda and Peter with their two daughters – Angie & Kristy moved from New Zealand to Brisbane in 1989\, enjoying life in Redlands Coast since 2001 with their now grown married daughters\, their son in law’s and grandchildren\, who are all actively involved within this great community of ours. \nBring business cards to enter the prize draw!
URL:https://cbn.net.au/event/cbn-redlands-breakfast-with-ps-linda-grieve/
LOCATION:Cleveland RSL\, 8 Passage Street\, Cleveland\, Queensland\, 4163\, Australia
CATEGORIES:Redlands CBN
ATTACH;FMTTYPE=image/webp:https://cbn.net.au/wp-content/uploads/2024/12/CBN-Humanitix-Cover-4.webp
END:VEVENT
BEGIN:VEVENT
DTSTART;TZID=Australia/Melbourne:20250207T063000
DTEND;TZID=Australia/Melbourne:20250207T090000
DTSTAMP:20260423T011130
CREATED:20241212T200935Z
LAST-MODIFIED:20250209T171813Z
UID:1081-1738909800-1738918800@cbn.net.au
SUMMARY:CBN Redlands Breakfast with Dr Grace Sha
DESCRIPTION:Join us at the next Redlands CBN Breakfast for a delicious breakfast\, hear from our inspiring guest speaker Dr Grace Sha\, and network with other Christians in business. \nOUR SPEAKER\nDr Grace Sha is a dentist\, board director and professional speaker\, who\, besides her healthcare career\, is : \n\nA leader passionate about good governance and rejuvenating organisational culture\nA volunteer and advocate who supports local and overseas not-for-profits\nA creative entrepreneur who excels in a diverse range of endeavours including property investment and event production.\n\nBring business cards to enter the prize draw!
URL:https://cbn.net.au/event/cbn-redlands-breakfast-with-dr-grace-sha/
LOCATION:Cleveland RSL\, 8 Passage Street\, Cleveland\, Queensland\, 4163\, Australia
CATEGORIES:Redlands CBN
END:VEVENT
BEGIN:VEVENT
DTSTART;TZID=Australia/Melbourne:20241129T064500
DTEND;TZID=Australia/Melbourne:20241129T090000
DTSTAMP:20260423T011130
CREATED:20241122T112258Z
LAST-MODIFIED:20241212T015307Z
UID:617-1732862700-1732870800@cbn.net.au
SUMMARY:CBN Redlands Breakfast with Clifford Morgan
DESCRIPTION:Join us at the next Redlands CBN Breakfast for a delicious breakfast\, hear from our inspiring guest speaker Clifford Morgan\, and network with other Christians in business. \nOUR SPEAKER\nClifford Morgan is a leadership expert and organisational psychologist with over 17 years in the Royal Australian Air Force. As a Certified Speaking Professional (CSP) and author of The Coaching Leader\, he specializes in transforming leaders into luminaries who drive impactful results. Clifford’s engaging approach has empowered a diverse range of clients\, from CEOs to frontline workers\, to harness their strengths and foster team development. Join us for this breakfast session to gain practical strategies that elevate your leadership style and inspire meaningful change within your organisation. Don’t miss this chance to learn from a seasoned expert!\n \nBring business cards to enter the prize draw!
URL:https://cbn.net.au/event/cbn-redlands-breakfast-with-clifford-morgan/
LOCATION:QLD
CATEGORIES:Redlands CBN
ATTACH;FMTTYPE=image/webp:https://cbn.net.au/wp-content/uploads/2024/11/CBN-Humanitix-Cover.webp
END:VEVENT
END:VCALENDAR