BEGIN:VCALENDAR
VERSION:2.0
PRODID:-//Christian Business Network - ECPv6.15.18//NONSGML v1.0//EN
CALSCALE:GREGORIAN
METHOD:PUBLISH
X-ORIGINAL-URL:https://cbn.net.au
X-WR-CALDESC:Events for Christian Business Network
REFRESH-INTERVAL;VALUE=DURATION:PT1H
X-Robots-Tag:noindex
X-PUBLISHED-TTL:PT1H
BEGIN:VTIMEZONE
TZID:Australia/Melbourne
BEGIN:STANDARD
TZOFFSETFROM:+1100
TZOFFSETTO:+1000
TZNAME:AEST
DTSTART:20240406T160000
END:STANDARD
BEGIN:DAYLIGHT
TZOFFSETFROM:+1000
TZOFFSETTO:+1100
TZNAME:AEDT
DTSTART:20241005T160000
END:DAYLIGHT
BEGIN:STANDARD
TZOFFSETFROM:+1100
TZOFFSETTO:+1000
TZNAME:AEST
DTSTART:20250405T160000
END:STANDARD
BEGIN:DAYLIGHT
TZOFFSETFROM:+1000
TZOFFSETTO:+1100
TZNAME:AEDT
DTSTART:20251004T160000
END:DAYLIGHT
BEGIN:STANDARD
TZOFFSETFROM:+1100
TZOFFSETTO:+1000
TZNAME:AEST
DTSTART:20260404T160000
END:STANDARD
BEGIN:DAYLIGHT
TZOFFSETFROM:+1000
TZOFFSETTO:+1100
TZNAME:AEDT
DTSTART:20261003T160000
END:DAYLIGHT
BEGIN:STANDARD
TZOFFSETFROM:+1100
TZOFFSETTO:+1000
TZNAME:AEST
DTSTART:20270403T160000
END:STANDARD
BEGIN:DAYLIGHT
TZOFFSETFROM:+1000
TZOFFSETTO:+1100
TZNAME:AEDT
DTSTART:20271002T160000
END:DAYLIGHT
END:VTIMEZONE
BEGIN:VEVENT
DTSTART;TZID=Australia/Melbourne:20251205T063000
DTEND;TZID=Australia/Melbourne:20251205T090000
DTSTAMP:20260422T065232
CREATED:20241212T235340Z
LAST-MODIFIED:20250115T033804Z
UID:1119-1764916200-1764925200@cbn.net.au
SUMMARY:CBN Redlands Breakfast 5th December
DESCRIPTION:Join us at the next Redlands CBN Breakfast for a delicious breakfast\, hear from our inspiring guest speaker\, and network with other Christians in business. \nBring business cards to enter the prize draw!
URL:https://cbn.net.au/event/cbn-redlands-breakfast-5th-december/
LOCATION:Cleveland RSL\, 8 Passage Street\, Cleveland\, Queensland\, 4163\, Australia
CATEGORIES:Redlands CBN
END:VEVENT
BEGIN:VEVENT
DTSTART;TZID=Australia/Melbourne:20260313T064500
DTEND;TZID=Australia/Melbourne:20260313T083000
DTSTAMP:20260422T065232
CREATED:20260210T064002Z
LAST-MODIFIED:20260210T064002Z
UID:1504-1773384300-1773390600@cbn.net.au
SUMMARY:CBN Redlands Breakfast with Mark Patch
DESCRIPTION:Join us at the next Redlands CBN Breakfast for a delicious breakfast\, hear from our inspiring guest speaker Mark Patch\, and network with other Christians in business. \nAbout Our Speaker Mark Patch:\nMark is a professional consultant with over 35 years of experience in strategic management\, leadership and assurance of high risk and high value initiatives in the public and private sectors.  He has demonstrated strengths in the disciplines of portfolio\, program and project management\, business analysis\, change management\, procurement\, contract management and sustainability.  He has worked co-operatively and successfully with a diverse range of clients and associates across all levels of government\, industry sectors\, nations and cultures. \nMark retired from the Australian Defence Force in 2006 after a 31 year career\, culminating in his appointment as the Director General Army Aviation Systems Branch within the Defence Materiel Organisation.  An Army Aviator by profession\, his appointments have included command at the troop\, squadron and regimental level. \nSince leaving Defence\, Mark has run his own Brisbane-based project management consultancy where he specialises in the areas of governance\, procurement\, project management and contract management with particular emphasis on the establishment\, development\, maturing and continuous improvement of project management frameworks within public and private organisations of all sizes. \nHe is a past President of the Queensland Chapter of the Australian Institute of Project Management and the Awards Director for the International Project Management Association (IPMA).  He is a committed Christian\, Chairman of The Rock Christian Church Management Committee and Chairman of The Rock Family and Community Support (a not-for-profit charity supporting the underprivileged in the Redlands district of Brisbane). \nMark is a Fellow of the Australian Institute of Company Directors\, a Fellow of the Australian Institute of Management\, a Fellow of the Australian Institute of Project Management and a Fellow of IPMA Australia. \nPRICES\n \nAdult: $50 \nConcession: $45 \nTable of 6: $275 (Save over 25% per ticket) \nBook Now: https://events.humanitix.com/cbn-redlands-breakfast-with-mark-patch
URL:https://cbn.net.au/event/cbn-redlands-breakfast-with-mark-patch/
LOCATION:Elysium Restaurant & Bar – 13 Bunker Road\, Victoria Point QLD 4165\, Elysium Restaurant & Bar - 13 Bunker Road\, Victoria Point\, QLD\, 4165\, Australia
END:VEVENT
END:VCALENDAR